BEGIN:VCALENDAR
VERSION:2.0
PRODID:-//Australian Music Association - ECPv5.0.1//NONSGML v1.0//EN
CALSCALE:GREGORIAN
METHOD:PUBLISH
X-WR-CALNAME:Australian Music Association
X-ORIGINAL-URL:https://australianmusic.asn.au
X-WR-CALDESC:Events for Australian Music Association
BEGIN:VTIMEZONE
TZID:Australia/Melbourne
BEGIN:STANDARD
TZOFFSETFROM:+1100
TZOFFSETTO:+1000
TZNAME:AEST
DTSTART:20200404T160000
END:STANDARD
BEGIN:DAYLIGHT
TZOFFSETFROM:+1000
TZOFFSETTO:+1100
TZNAME:AEDT
DTSTART:20201003T160000
END:DAYLIGHT
END:VTIMEZONE
BEGIN:VEVENT
DTSTART;TZID=Australia/Melbourne:20200801T080000
DTEND;TZID=Australia/Melbourne:20200802T170000
DTSTAMP:20200224T184930
CREATED:20191113T001415Z
LAST-MODIFIED:20191113T001428Z
UID:6627-1596268800-1596387600@australianmusic.asn.au
SUMMARY:Melbourne Guitar Show 2020
DESCRIPTION:Australia’s premier exhibition for all things strings – hundreds of brands & stores and the cream of our live performers and educators. \n
URL:https://australianmusic.asn.au/event/melbourne-guitar-show-2/
END:VEVENT
END:VCALENDAR